Workbook

Sheet 붙임 1(소속회사 변동내용)
A1: [붙임1] 상호출자제한 기업집단 등의 2020년 8월~10월 중 소속회사 변동내용
A3: 1. 계열회사 수 변동현황
A4: 집단구분 | B4: 2020.8.1. | D4: 편입 | I4: 제외 | L4: 변동내역 | M4: 2020.11.2.
C5: 회사설립 | D5: 지분취득 | E5: 기타 | F5: 계 | G5: 흡수합병 | H5: 지분매각 | I5: 청산종결 | J5: 기타 | K5: 계
A6: 상호출자제한 | B6: 1470 | C6: 18 | D6: 11 | E6: 4 | F6: =C6+D6+E6 -> 33 | G6: 8 | H6: 6 | I6: 4 | J6: 4 | K6: =G6+H6+I6+J6 -> 22 | L6: =F6-K6 -> 11 | M6: =B6+L6 -> 1481
A7: 공시대상 | B7: 831 | C7: 12 | D7: 4 | E7: 7 | F7: =C7+D7+E7 -> 23 | G7: 4 | H7: 1 | I7: 2 | J7: 3 | K7: =G7+H7+I7+J7 -> 10 | L7: =F7-K7 -> 13 | M7: =B7+L7 -> 844
A8: 전체 | B8: 2301 | C8: 30 | D8: =D6+D7 -> 15 | E8: =E6+E7 -> 11 | F8: =F6+F7 -> 56 | G8: =G6+G7 -> 12 | H8: =H6+H7 -> 7 | I8: =I6+I7 -> 6 | J8: =J6+J7 -> 7 | K8: =K6+K7 -> 32 | ... M8: =M6+M7 -> 2325
A11: 2. 변동 내용
A13: 가. 편입: 56개사 (회사설립 30, 지분취득15, 기타 11)
A14: 기업집단 | B14: 집단구분 | C14: 회사명 | D14: 대표자 | E14: 영위업종 | F14: 주소 | I14: 법인등록번호 | J14: 금융여부 | K14: 사유 | L14: 동일인측 최대주주 | M14: 동일인측 최대주주 지분율(%)
A15: 현대자동차 | B15: 상출 | C15: 현대엔터프라이즈㈜ | D15: 정문선 | E15: 경영컨설팅 및 투자자문업 | F15: 서울특별시 강남구 테헤란로 507, 14층 111호 | I15: 110111-7590345 | J15: 비금융 | K15: 회사설립(신설) | L15: 정문선 | M15: 100
A16: 현대자동차 | B16: 상출 | C16: 퍼플엠㈜ | D16: 서영우 | E16: 자동차 차체용 신품 부품 제조업 | F16: 서울특별시 강남구 남부순환로 2621 | I16: 110111-7551686 | J16: 비금융 | K16: 회사설립(신설) | L16: 기아자동차㈜ | M16: 100
A17: 에스케이 | B17: 상출 | C17: 민팃㈜ | D17: 조성락 | E17: 가전제품, 통신장비 및 부품 도매업 | F17: 경기도 김포시 장릉1로 50(풍무동) | I17: 124411-0057457 | J17: 비금융 | K17: 지분취득 | L17: SK네트웍스㈜ | M17: 76
A18: 에스케이 | B18: 상출 | C18: 해쌀태양광㈜ | D18: 차태병 | E18: 발전업 | F18: 충청남도 서산시 성연면 성연1로 10, 201호 | I18: 161411-0049376 | J18: 비금융 | K18: 회사설립(신설) | L18: 에스케이이엔에스㈜ | M18: 100
A19: 한화 | B19: 상출 | C19: ㈜서오창테크노밸리 | D19: 김인성 | E19: 부동산업 | F19: 충청북도 청주시 흥덕구 강서로 107, 906호(강서동) | I19: 150111-0292271 | J19: 비금융 | K19: 회사설립(신설) | L19: ㈜한화도시개발 | M19: 73
A20: 한화 | B20: 상출 | C20: ㈜하나트러스트제5호위탁관리부동산투자회사 | D20: 박영희 | E20: 부동산 임대업 | F20: 서울특별시 강남구 테헤란로 127, 15층(역삼동, 하나금융그룹 강남사옥) | I20: 110111-7468352 | J20: 비금융 | K20: 지분취득 | L20: 한화호텔앤드리조트㈜ | M20: 85.2
A21: 지에스 | B21: 상출 | C21: 자이메카닉스㈜ | D21: 장기영,신상철 | E21: 건물용 기계 및 장비 설치공사업 | F21: 서울특별시 종로구 종로 33, 18층 | I21: 110111-7559846 | J21: 비금융 | K21: 회사설립(신설) | L21: 지에스건설㈜ | M21: 100
A22: 지에스 | B22: 상출 | C22: 팬코텍(유) | D22: 임현호 | E22: 시설물유지관리 공사업 | F22: 전라남도 여수시 산단중앙로 669(중흥동) | I22: 206214-0018226 | J22: 비금융 | K22: 회사설립(신설) | L22: 지에스칼텍스㈜ | M22: 100
A23: 지에스 | B23: 상출 | C23: ㈜케이세이프새먼어업회사 | D23: 이상도 | E23: 내수면 어업 | F23: 부산광역시 기장군 일광면 일광로 474 | I23: 180111-1291185 | J23: 비금융 | K23: 회사설립(신설) | L23: GS건설㈜ | M23: 73.9
A24: 지에스 | B24: 상출 | C24: 자이가이스트(주) | D24: 이정섭,신상철 | E24: 건축용 나무제품 제조업 | F24: 서울시 종로구 종로33 15층 | I24: 110111-7585958 | J24: 비금융 | K24: 회사설립(신설) | L24: 지에스건설(주) | M24: 100
A25: 농협 | B25: 상출 | C25: 알지에이치브이엘사모해외자원개발특별자산투자회사일호 | D25: 알지자산운용㈜ | E25: 신탁업 및 금융투자업 | F25: 서울특별시 영등포구 여의대로 70, 16층(여의도동) | I25: 110111-5275600 | J25: 금융 | K25: 기타1) | L25: 엔에이치투자증권㈜ | M25: 85.17
A26: 농협 | B26: 상출 | C26: 엔에이치나우농식품2호사모투자합자회사 | D26: 농협은행㈜, 나우아이비캐피탈㈜ | E26: 그 외 기타 금융업 | F26: 서울특별시 강남구 삼성로 511, 11층(삼성동, 골든타워) | I26: 110113-0027911 | J26: 금융 | K26: 기타2) | L26: 농협은행㈜ | M26: 50
... A44: 하림 | B44: 상출 | C44: 푸른조경㈜ | D44: 류정훈 | E44: 조경건설업 | F44: 광주광역시 동구 의재로 23-1, 2층 | I44: 200111-0033632 | J44: 비금융 | K44: 지분취득 | L44: 김준영 | M44: 25
L45: 김주영 | M45: 25
A46: 하림 | B46: 상출 | C46: ㈜제이에이치제이 | D46: 김준영 | E46: 부동산관리업 | F46: 전라북도 익산시 낭산면 진북로 701 | I46: 214911-0062861 | J46: 비금융 | K46: 회사설립(신설) | L46: 김준영 외 3 | M46: 25
A47: 영풍 | B47: 상출 | C47: ㈜영풍문고 | D47: 최영일 | E47: 서적 잡지 및 기타 인쇄물 도매업 | F47: 서울특별시 강남구 강남대로 542 | I47: 110111-7577393 | J47: 비금융 | K47: 회사설립(분할) | L47: 영풍문고홀딩스㈜ | M47: 100
A48: 대우건설 | B48: 상출 | C48: 동서울지하도로㈜ | D48: 김토문 | E48: 건물 및 토목 엔지니어링 | F48: 서울특별시 중구 을지로 170, 10층 (을지로4가, 을지트윈타워) | I48: 110111-7629285 | J48: 비금융 | K48: 회사설립(신설) | L48: ㈜대우건설 | M48: 100
A49: 태영 | B49: 공시 | C49: ㈜티와이홀딩스 | D49: 유종연 | E49: 지주회사 | F49: 서울특별시 영등포구 여의공원로 111, 10층(여의도동) | I49: 110111-7608502 | J49: 비금융 | K49: 회사설립(분할) | L49: 윤석민 | M49: 26.23
A50: SM | B50: 공시 | C50: 대한해운엘엔지㈜ | D50: 김칠봉 | E50: 외항운송업 | F50: 서울특별시 영등포구 선유동1로 22 | I50: 110111-0008212 | J50: 비금융 | K50: 회사설립(분할) | L50: 대한해운㈜ | M50: 100
A51: 넥슨 | B51: 공시 | C51: ㈜데브캣 | D51: 류제일, 김동건 | E51: 통신판매업 | F51: 서울특별시 테헤란로 98길 11 | I51: 110111-7586039 | J51: 비금융 | K51: 회사설립(신설) | L51: ㈜넥슨코리아 | M51: 50
A52: 넥슨 | B52: 공시 | C52: ㈜니트로스튜디오 | D52: 류제일, 박훈 | E52: 통신판매업 | F52: 서울특별시 테헤란로 412 | I52: 110111-7600623 | J52: 비금융 | K52: 회사설립(신설) | L52: ㈜넥슨코리아 | M52: 50
A53: 호반건설 | B53: 공시 | C53: 자양5구역피에프브이㈜ | D53: 김정혁, 변흥규 | E53: 부동산 개발 및 공급업 | F53: 서울특별시 강남구 봉은사로 418, 4층(삼성동, 조양빌딩) | I53: 110111-7002390 | J53: 비금융 | K53: 지분취득 | L53: ㈜호반건설 | M53: 35
A54: 셀트리온 | B54: 공시 | C54: ㈜셀트리온헬스케어홀딩스 | D54: 유헌영 | E54: 지주회사 | F54: 인천광역시 연수구 아카데미로 51번길 19 | I54: 120111-1101526 | J54: 비금융 | K54: 회사설립(신설) | L54: 서정진 | M54: 100
A55: 중흥건설 | B55: 공시 | C55: 선월하이파크밸리㈜ | D55: 송귀범 | E55: 부동산개발 및 공급업 | F55: 전남 순천시 해룡면 향매1길 16-1 | I55: 201311-0083731 | J55: 비금융 | K55: 회사설립(신설) | L55: 중흥건설㈜ | M55: 51
A56: 삼천리 | B56: 공시 | C56: ㈜아네모이 | D56: 이창석 | E56: 기타금융업 | F56: 서울특별시 영등포구 국제금융로6길 42(여의도동) | I56: 110111-7588267 | J56: 금융 | K56: 회사설립(신설) | L56: 비티에스 제1호사모투자합자회사 | M56: 100
A57: 삼천리 | B57: 공시 | C57: ㈜와이즈솔라군산 | D57: 송준식 | E57: 태양광 발전사업 | F57: 대전광역시 대덕구 신일동로 17번길 5, 706-2호 | I57: 110111-5309285 | J57: 비금융 | K57: 지분취득 | L57: (주)아폴로 | M57: 100
... A67: 다우키움 | B67: 공시 | C67: 키움프라이빗에쿼티에스테틱 사모투자 합자회사 | D67: (GP)키움프라이빗에쿼티㈜ | E67: 기타 금융업 | F67: 서울특별시 영등포구 여의나루로4길 18, 16층(여의도동, 키움파이낸스스퀘어빌딩) | I67: 110113-0027656 | J67: 금융 | K67: 기타2) | L67: 키움프라이빗에쿼티㈜ | M67: 2
A68: 하이트진로 | B68: 공시 | C68: (유)평암농산법인 | D68: 허을도 | E68: 곡물 및 기타 식량작물 재배업 | F68: 경남 마산시 진전면 평암리 1347-1 | I68: 190114-0002733 | J68: 비금융 | K68: 기타4) | L68: - | M68: -
A69: 유진 | B69: 공시 | C69: 유진프라이디움전문투자형사모부동산모투자(유) | D69: 유진자산운용㈜ | E69: 부동산 개발 및 공급업 | F69: 서울특별시 영등포구 국제금융로2길 24(여의도동) | I69: 110114-0266210 | J69: 비금융 | K69: 회사설립(신설) | L69: 유진자산운용㈜ | M69: 100
A70: KG | B70: 공시 | C70: 케이지아이씨티㈜ | D70: 이상준 | E70: 컴퓨터 시스템 통합 자문, 구축 및 관리업 | F70: 서울특별시 서대문구 통일로 92, 12층(순화동, 케이지타워) | I70: 110111-7622601 | J70: 비금융 | K70: 회사설립(신설) | L70: ㈜스마트인슈 | M70: 100
A71: KG | B71: 공시 | C71: 크라운에프앤비㈜ | D71: 이종현 | E71: 그 외 기타 금융업 | F71: 서울특별시 서대문구 통일로 92, 21층(순화동, 케이지타워) | I71: 110111-7624748 | J71: 금융 | K71: 회사설립(신설) | L71: ㈜케이지이니시스 | M71: 100
A72: 기타1) 2014. 9. 1.자 편입의제에 따른 편입
A73: 기타2) 지배력획득(업무집행사원)
A74: 기타3) 드림라인(주)의 계열편입에 따른 동반편입
A75: 기타4) 임원 겸임 및 지분보유 등
A77: 나. 제외: 32개사 (흡수합병12 , 지분매각7 , 청산종결6, 기타7)
A78: 기업집단 | B78: 집단구분 | C78: 회사명 | D78: 대표자 | E78: 영위업종 | F78: 주소 | I78: 법인등록번호 | J78: 금융여부 | K78: 사유
A79: 현대자동차 | B79: 상출 | C79: 현대에너지㈜ | D79: 한문선 | E79: 증기,냉온수 및 공기 조절 공급업 | F79: 전남 여수시 여수산단로 727 | I79: 206211-0039541 | J79: 비금융 | K79: 지분매각
A80: 에스케이 | B80: 상출 | C80: 피아이유엔㈜ | D80: 서갑수 | E80: 사업시설 유지ㆍ관리 서비스업 | F80: 경기도 군포시 공단로 149, 301호(당동, 군포아이밸리) | I80: 134111-0383195 | J80: 비금융 | K80: 청산종결
A81: 에스케이 | B81: 상출 | C81: ㈜코스코가스텍 | D81: 신은수 | E81: 고압가스 시설관리업 | F81: 전라남도 광양시 광양읍 초남리 758-8 | I81: 204611-0033109 | J81: 비금융 | K81: 지분매각
A82: 엘지 | B82: 상출 | C82: ㈜하나방송 | D82: 김성구 | E82: 유선, 위성 및 기타방송업) | F82: 경상남도 창원시 마산합포구 합포로 161(산호동) | I82: 190111-0066107 | J82: 비금융 | K82: 흡수합병
A83: 엘지 | B83: 상출 | C83: ㈜엘지토스템비엠 | D83: 김진하 | E83: 구조용 금속제품 제조업 | F83: 충청북도 청주시 흥덕구 옥산면 옥산산단3로 9 | I83: 110111-4080688 | J83: 비금융 | K83: 청산종결
A84: 롯데 | B84: 상출 | C84: 내포그린에너지㈜ | D84: 김만년 | E84: 증기,냉온수 및 공기 조절 공급업 | F84: 충청남도 예산군 삽교읍 목리 114-9 | I84: 164911-0020901 | J84: 비금융 | K84: 기타1)
A85: 포스코 | B85: 상출 | C85: 피에스씨에너지글로벌㈜ | D85: 김권종 | E85: 사업시설 유지, 관리 서비스업 | F85: 경상북도 포항시 북구 흥해읍 영일만산단로 88번길 153 | I85: 171711-0092286 | J85: 비금융 | K85: 흡수합병
A86: 지에스 | B86: 상출 | C86: 씨브이에스넷㈜ | D86: 손상현 | E86: 그 외 기타 운송관련 서비스업 | F86: 서울특별시 강남구 테헤란로 201, 8층(역삼동, 아주빌딩) | I86: 110111-2193417 | J86: 비금융 | K86: 흡수합병
A87: 신세계 | B87: 상출 | C87: ㈜신세계인터코스코리아 | D87: 알레산드로레쿠페로 | E87: 화장품 제조업 | F87: 경기도 오산시 가장산업서북로 40-38 | I87: 131111-0431666 | J87: 비금융 | K87: 지분매각
A88: 대림 | B88: 상출 | C88: 고려개발㈜ | D88: 곽수윤 | E88: 도로건설업 | F88: 경기도 용인시 수지구 풍덕천로 112 | I88: 110111-0052037 | J88: 비금융 | K88: 흡수합병
A89: 대림 | B89: 상출 | C89: ㈜삼일씨엔에스 | D89: 정용근 | E89: 콘크리트 파일제조업 | F89: 서울 중구 을지로 5길 16, 5층 | I89: 110111-0061228 | J89: 비금융 | K89: 지분매각
... A110: 애경 | B110: 공시 | C110: (주)에이케이네트워크 | D110: 김진태 | E110: 부동산개발 및 공급업 | F110: 서울시 서초구 강남대로 331, 17층(서초동) | I110: 110111-3049841 | J110: 비금융 | K110: 청산종결
A111: 기타1) 유상증자에 따른 최대주주 변경
A112: 기타2) 친족독립경영
A113: 기타3) 드림라인(주)의 계열제외에 따른 동반제외
A114: 기타4) 법 시행령 제3조의2 제2항 제3호에 따른 계열제외(산학연기술지주 계열유예)
A115: 기타5) 법 시행령 제3조의2 제2항 제2호의2에 따른 계열제외(민간투자사업법인 계열유예)
A116: * 기업집단 포스코의 수도권외곽순환고속도로㈜는 계열 유예 중 계열회사 요건이 해소된 회사로 계열제외 현황에 별도 표기하지 않음
A118: 다. 편입 후 계열제외: 1개사
A119: 기업집단 | B119: 집단구분 | C119: 회사명 | D119: 대표자 | E119: 영위업종 | F119: 주소 | I119: 법인등록번호 | J119: 금융여부 | K119: 제외사유 | L119: 동일인측 최대주주 | M119: 동일인측 최대주주 지분율(%)
A120: 네이버 | B120: 공시 | C120: (주)디엠케이팩토리 | D120: 박동훈 | E120: 게임소프트웨어 개발 및 공급업 | F120: 서울특별시 서초구 사임당로 58, 4층(서초동,제일빌딩) | I120: 110111-5312478 | J120: 비금융 | K120: 법 시행령 제3조의2 제2항 4호 | L120: 라인게임즈㈜ | M120: 37.65
A122: 라. 상호 및 조직 변경: 10개사
A123: 기업집단 | B123: 집단구분 | C123: 변경 전 회사명 | E123: 변경 후 회사명 | H123: 등기일 | I123: 법인등록번호 | J123: 비고
A124: 농협 | B124: 상출 | C124: ㈜메큐라이크 | E124: ㈜지엔앰퍼포먼스 | H124: 2020.07.22. | I124: 110111-4854819
A125: 현대백화점 | B125: 상출 | C125: ㈜클린젠코스메슈티칼 | E125: ㈜한섬라이프앤 | H125: 2020.09.22. | I125: 110111-6937142
A126: 효성 | B126: 상출 | C126: 갤럭시아커뮤니케이션즈㈜ | E126: 갤럭시아머니트리㈜ | H126: 2020.09.11. | I126: 110111-1081928
A127: 영풍 | B127: 상출 | C127: ㈜영풍문고 | E127: 영풍문고홀딩스㈜ | H127: 2020.08.03. | I127: 110111-0855530
A128: 이랜드 | B128: 공시 | C128: (주)이랜드파트너스 | E128: ㈜이랜드투자일임 | H128: 2020.07.13. | I128: 110111-7324562
A129: 세아 | B129: 공시 | C129: ㈜세아알앤아이 | E129: ㈜아이언그레이 | H129: 2020.08.03. | I129: 110111-4992768
A130: 네이버 | B130: 공시 | C130: 네이버웹툰㈜ | E130: 네이버웹툰컴퍼니㈜ | H130: 2020.08.03. | I130: 131111-0481364
A131: 네이버 | B131: 공시 | C131: 웹툰엔터테인먼트코리아㈜ | E131: 네이버웹툰㈜ | H131: 2020.08.03. | I131: 131111-0593698
A132: 네이버 | B132: 공시 | C132: 네이버웹툰㈜ | E132: 네이버웹툰(유) | H132: 2020.09.15. | I132: 131114-0011991
A133: 유진 | B133: 공시 | C133: 유진프라이빗에쿼티㈜ | E133: 유진프라이빗에쿼티㈜ | H133: - | I133: 110111-5654010 | J133: 업종변경(비금융→금융)

Sheet 붙임 2(소속회사 현황)
A1: [붙임 2]
A9: 상호출자제한기업집단 등의 소속회사 현황
A25: 2020. 11. 2.
A29: 공 정 거 래 위 원 회

Sheet 2-1. 기업집단별 소속회사 수
A1: □ 상호출자제한기업집단 등의 소속회사 현황(2020.11.2.기준)
F2: (단위: 개)
A3: 연번 | B3: 기업집단 | C3: 동일인 | D3: 소속회사 수 | E3: 비금융보험사 | F3: 금융보험사 | G3: 집단 구분
A4: 1 | B4: 삼성 | C4: 이재용 | D4: =E4+F4 -> 59 | E4: =COUNTIFS('2-2. 기업집단별 소속회사 현황'!$B:$B,$B4,'2-2. 기업집단별 소속회사 현황'!$E:$E,"비금융") -> 43 | F4: =COUNTIFS('2-2. 기업집단별 소속회사 현황'!$B:$B,$B4,'2-2. 기업집단별 소속회사 현황'!$E:$E,"금융") -> 16 | G4: 상호출자제한집단
A5: 2 | B5: 현대자동차 | C5: 정몽구 | D5: =E5+F5 -> 55 | E5: =COUNTIFS('2-2. 기업집단별 소속회사 현황'!$B:$B,$B5,'2-2. 기업집단별 소속회사 현황'!$E:$E,"비금융") -> 50 | F5: =COUNTIFS('2-2. 기업집단별 소속회사 현황'!$B:$B,$B5,'2-2. 기업집단별 소속회사 현황'!$E:$E,"금융") -> 5 | G5: 상호출자제한집단
A6: 3 | B6: 에스케이 | C6: 최태원 | D6: =E6+F6 -> 123 | E6: =COUNTIFS('2-2. 기업집단별 소속회사 현황'!$B:$B,$B6,'2-2. 기업집단별 소속회사 현황'!$E:$E,"비금융") -> 123 | F6: =COUNTIFS('2-2. 기업집단별 소속회사 현황'!$B:$B,$B6,'2-2. 기업집단별 소속회사 현황'!$E:$E,"금융") -> 0 | G6: 상호출자제한집단
A7: 4 | B7: 엘지 | C7: 구광모 | D7: =E7+F7 -> 67 | E7: =COUNTIFS('2-2. 기업집단별 소속회사 현황'!$B:$B,$B7,'2-2. 기업집단별 소속회사 현황'!$E:$E,"비금융") -> 67 | F7: =COUNTIFS('2-2. 기업집단별 소속회사 현황'!$B:$B,$B7,'2-2. 기업집단별 소속회사 현황'!$E:$E,"금융") -> 0 | G7: 상호출자제한집단
A8: 5 | B8: 롯데 | C8: 신동빈 | D8: =E8+F8 -> 85 | E8: =COUNTIFS('2-2. 기업집단별 소속회사 현황'!$B:$B,$B8,'2-2. 기업집단별 소속회사 현황'!$E:$E,"비금융") -> 82 | F8: =COUNTIFS('2-2. 기업집단별 소속회사 현황'!$B:$B,$B8,'2-2. 기업집단별 소속회사 현황'!$E:$E,"금융") -> 3 | G8: 상호출자제한집단
A9: 6 | B9: 포스코 | C9: (주)포스코 | D9: =E9+F9 -> 34 | E9: =COUNTIFS('2-2. 기업집단별 소속회사 현황'!$B:$B,$B9,'2-2. 기업집단별 소속회사 현황'!$E:$E,"비금융") -> 33 | F9: =COUNTIFS('2-2. 기업집단별 소속회사 현황'!$B:$B,$B9,'2-2. 기업집단별 소속회사 현황'!$E:$E,"금융") -> 1 | G9: 상호출자제한집단
A10: 7 | B10: 한화 | C10: 김승연 | D10: =E10+F10 -> 87 | E10: =COUNTIFS('2-2. 기업집단별 소속회사 현황'!$B:$B,$B10,'2-2. 기업집단별 소속회사 현황'!$E:$E,"비금융") -> 77 | F10: =COUNTIFS('2-2. 기업집단별 소속회사 현황'!$B:$B,$B10,'2-2. 기업집단별 소속회사 현황'!$E:$E,"금융") -> 10 | G10: 상호출자제한집단
A11: 8 | B11: 지에스 | C11: 허창수 | D11: =E11+F11 -> 72 | E11: =COUNTIFS('2-2. 기업집단별 소속회사 현황'!$B:$B,$B11,'2-2. 기업집단별 소속회사 현황'!$E:$E,"비금융") -> 72 | F11: =COUNTIFS('2-2. 기업집단별 소속회사 현황'!$B:$B,$B11,'2-2. 기업집단별 소속회사 현황'!$E:$E,"금융") -> 0 | G11: 상호출자제한집단
A12: 9 | B12: 현대중공업 | C12: 정몽준 | D12: =E12+F12 -> 31 | E12: =COUNTIFS('2-2. 기업집단별 소속회사 현황'!$B:$B,$B12,'2-2. 기업집단별 소속회사 현황'!$E:$E,"비금융") -> 31 | F12: =COUNTIFS('2-2. 기업집단별 소속회사 현황'!$B:$B,$B12,'2-2. 기업집단별 소속회사 현황'!$E:$E,"금융") -> 0 | G12: 상호출자제한집단
A13: 10 | B13: 농협 | C13: 농업협동조합중앙회 | D13: =E13+F13 -> 57 | E13: =COUNTIFS('2-2. 기업집단별 소속회사 현황'!$B:$B,$B13,'2-2. 기업집단별 소속회사 현황'!$E:$E,"비금융") -> 34 | F13: =COUNTIFS('2-2. 기업집단별 소속회사 현황'!$B:$B,$B13,'2-2. 기업집단별 소속회사 현황'!$E:$E,"금융") -> 23 | G13: 상호출자제한집단
A14: 11 | B14: 신세계 | C14: 이명희 | D14: =E14+F14 -> 44 | E14: =COUNTIFS('2-2. 기업집단별 소속회사 현황'!$B:$B,$B14,'2-2. 기업집단별 소속회사 현황'!$E:$E,"비금융") -> 43 | F14: =COUNTIFS('2-2. 기업집단별 소속회사 현황'!$B:$B,$B14,'2-2. 기업집단별 소속회사 현황'!$E:$E,"금융") -> 1 | G14: 상호출자제한집단
A15: 12 | B15: 케이티 | C15: (주)케이티 | D15: =E15+F15 -> 45 | E15: =COUNTIFS('2-2. 기업집단별 소속회사 현황'!$B:$B,$B15,'2-2. 기업집단별 소속회사 현황'!$E:$E,"비금융") -> 40 | F15: =COUNTIFS('2-2. 기업집단별 소속회사 현황'!$B:$B,$B15,'2-2. 기업집단별 소속회사 현황'!$E:$E,"금융") -> 5 | G15: 상호출자제한집단
... A67: 64 | B67: 삼양 | C67: 김윤 | D67: =E67+F67 -> 13 | E67: =COUNTIFS('2-2. 기업집단별 소속회사 현황'!$B:$B,$B67,'2-2. 기업집단별 소속회사 현황'!$E:$E,"비금융") -> 13 | F67: =COUNTIFS('2-2. 기업집단별 소속회사 현황'!$B:$B,$B67,'2-2. 기업집단별 소속회사 현황'!$E:$E,"금융") -> 0 | G67: 공시대상기업집단
B68: 합 계 | D68: =SUM(D4:D67) -> 2325 | E68: =SUM(E4:E67) -> 2040 | F68: =SUM(F4:F67) -> 285

Sheet 2-2. 기업집단별 소속회사 현황
A1: □ 상호출자제한기업집단(1위~34위) 및 공시대상기업집단(35위~64위) 소속회사 현황
E2: (2020. 11.2. 기준)
A3: 연번 | B3: 기업집단 | C3: 소속회사명 | D3: 법인등록번호 | E3: 금융여부
A4: 1 | B4: 삼성 | C4: (주)삼성생명금융서비스보험대리점 | D4: 1101115714533 | E4: 금융
A5: 1 | B5: 삼성 | C5: (주)삼성화재금융서비스보험대리점 | D5: 1101116002424 | E5: 금융
A6: 1 | B6: 삼성 | C6: 삼성벤처투자(주) | D6: 1101111785538 | E6: 금융
A7: 1 | B7: 삼성 | C7: 삼성생명보험(주) | D7: 1101110005953 | E7: 금융
A8: 1 | B8: 삼성 | C8: 삼성생명서비스손해사정(주) | D8: 1101111855414 | E8: 금융
A9: 1 | B9: 삼성 | C9: 삼성선물(주) | D9: 1101110894520 | E9: 금융
A10: 1 | B10: 삼성 | C10: 삼성액티브자산운용(주) | D10: 1101116277382 | E10: 금융
A11: 1 | B11: 삼성 | C11: 삼성에스알에이자산운용(주) | D11: 1101115004322 | E11: 금융
A12: 1 | B12: 삼성 | C12: 삼성자산운용(주) | D12: 1701110139833 | E12: 금융
A13: 1 | B13: 삼성 | C13: 삼성증권(주) | D13: 1101110335649 | E13: 금융
A14: 1 | B14: 삼성 | C14: 삼성카드(주) | D14: 1101110346901 | E14: 금융
A15: 1 | B15: 삼성 | C15: 삼성카드고객서비스(주) | D15: 1101115291656 | E15: 금융
... A115: 2 | B115: 현대자동차 | C115: 현대파텍스(주) | D115: 1614110015955 | E115: 비금융
A116: 2 | B116: 현대자동차 | C116: 퍼플엠㈜ | D116: 110111-7551686 | E116: 비금융
A117: 2 | B117: 현대자동차 | C117: 현대엔터프라이즈㈜ | D117: 110111-7590345 | E117: 비금융
A118: 3 | B118: 에스케이 | C118: (주)나노엔텍 | D118: 1101110550502 | E118: 비금융
A119: 3 | B119: 에스케이 | C119: (주)대한송유관공사 | D119: 1101110671522 | E119: 비금융
A120: 3 | B120: 에스케이 | C120: (주)드림어스컴퍼니 | D120: 1101111637383 | E120: 비금융
A121: 3 | B121: 에스케이 | C121: (주)부산도시가스 | D121: 1801110039495 | E121: 비금융
A122: 3 | B122: 에스케이 | C122: (주)에스엠코어 | D122: 1101110128680 | E122: 비금융
A123: 3 | B123: 에스케이 | C123: (주)에이디티캡스 | D123: 1101110072639 | E123: 비금융
A124: 3 | B124: 에스케이 | C124: (주)에이앤티에스 | D124: 1101113066861 | E124: 비금융
A125: 3 | B125: 에스케이 | C125: (주)제이에스아이 | D125: 1246110261880 | E125: 비금융
A126: 3 | B126: 에스케이 | C126: (주)캡스텍 | D126: 1101113141663 | E126: 비금융
A127: 3 | B127: 에스케이 | C127: (주)한유케미칼 | D127: 1101112559792 | E127: 비금융
A128: 3 | B128: 에스케이 | C128: (주)휘찬 | D128: 1101111225831 | E128: 비금융
A129: 3 | B129: 에스케이 | C129: 강원도시가스(주) | D129: 1401110002010 | E129: 비금융
... A237: 3 | B237: 에스케이 | C237: 보령엘엔지터미널(주) | D237: 1645110021527 | E237: 비금융
A238: 3 | B238: 에스케이 | C238: ㈜신안증도태양광 | D238: 201111-0052938 | E238: 비금융
A239: 3 | B239: 에스케이 | C239: 민팃㈜ | D239: 124411-0057457 | E239: 비금융
A240: 3 | B240: 에스케이 | C240: 해쌀태양광㈜ | D240: 161411-0049376 | E240: 비금융
A241: 4 | B241: 엘지 | C241: (주)곤지암예원 | D241: 1342110111354 | E241: 비금융
A242: 4 | B242: 엘지 | C242: (주)그린누리 | D242: 2301110286144 | E242: 비금융
A243: 4 | B243: 엘지 | C243: (주)나눔누리 | D243: 1760110075546 | E243: 비금융
A244: 4 | B244: 엘지 | C244: (주)더페이스샵 | D244: 1101110386973 | E244: 비금융
A245: 4 | B245: 엘지 | C245: (주)데이콤크로싱 | D245: 1101112234683 | E245: 비금융
A246: 4 | B246: 엘지 | C246: (주)드림누리 | D246: 1101116560282 | E246: 비금융
A247: 4 | B247: 엘지 | C247: (주)로보메디 | D247: 1615110181019 | E247: 비금융
A248: 4 | B248: 엘지 | C248: (주)로보스타 | D248: 1101111655393 | E248: 비금융
A249: 4 | B249: 엘지 | C249: (주)루치펠로코리아 | D249: 1101115089316 | E249: 비금융
A250: 4 | B250: 엘지 | C250: (주)미디어로그 | D250: 1101111905441 | E250: 비금융
A251: 4 | B251: 엘지 | C251: (주)미래엠 | D251: 1342110190259 | E251: 비금융
A252: 4 | B252: 엘지 | C252: (주)미젠스토리 | D252: 1311110466580 | E252: 비금융
... A391: 5 | B391: 롯데 | C391: 서울복합물류프로젝트금융투자(주) | D391: 1101114660232 | E391: 비금융
A392: 5 | B392: 롯데 | C392: 마곡엘앤타워피에프브이(주) | D392: 110111-7472668 | E392: 비금융
A393: 6 | B393: 포스코 | C393: 포스코기술투자(주) | D393: 1746110029080 | E393: 금융
A394: 6 | B394: 포스코 | C394: (주)부산이앤이 | D394: 1801110721109 | E394: 비금융
A395: 6 | B395: 포스코 | C395: (주)순천에코트랜스 | D395: 2013110045468 | E395: 비금융
A396: 6 | B396: 포스코 | C396: (주)에스엔엔씨 | D396: 2046110023415 | E396: 비금융
A397: 6 | B397: 포스코 | C397: (주)에스피에이치 | D397: 1201110735318 | E397: 비금융
A398: 6 | B398: 포스코 | C398: (주)엔투비 | D398: 1101112059362 | E398: 비금융
A399: 6 | B399: 포스코 | C399: (주)탄천이앤이 | D399: 1101114163690 | E399: 비금융
A400: 6 | B400: 포스코 | C400: (주)포스코 | D400: 1746110000741 | E400: 비금융
A401: 6 | B401: 포스코 | C401: (주)포스코건설 | D401: 1746110002979 | E401: 비금융
A402: 6 | B402: 포스코 | C402: (주)포스코경영연구원 | D402: 1101111042350 | E402: 비금융
A403: 6 | B403: 포스코 | C403: (주)포스코아이씨티 | D403: 1101110658637 | E403: 비금융
A404: 6 | B404: 포스코 | C404: (주)포스코알텍 | D404: 1101116423894 | E404: 비금융
... A425: 6 | B425: 포스코 | C425: 한국퓨얼셀(주) | D425: 1717110150638 | E425: 비금융
A426: 6 | B426: 포스코 | C426: ㈜피앤오케미칼 | D426: 204611-0062322 | E426: 비금융
A427: 7 | B427: 한화 | C427: (주)한화금융에셋 | D427: 1101115582378 | E427: 금융
A428: 7 | B428: 한화 | C428: (주)한화저축은행 | D428: 1211110059436 | E428: 금융
A429: 7 | B429: 한화 | C429: 에이치글로벌파트너스(유) | D429: 1345140002931 | E429: 금융
A430: 7 | B430: 한화 | C430: 캐롯손해보험(주) | D430: 1101117107728 | E430: 금융
A431: 7 | B431: 한화 | C431: 한화라이프에셋(주) | D431: 1101113199349 | E431: 금융
A432: 7 | B432: 한화 | C432: 한화생명보험(주) | D432: 1101110003204 | E432: 금융
A433: 7 | B433: 한화 | C433: 한화손해보험(주) | D433: 1101110006456 | E433: 금융
A434: 7 | B434: 한화 | C434: 한화손해사정(주) | D434: 1101113192913 | E434: 금융
A435: 7 | B435: 한화 | C435: 한화자산운용(주) | D435: 1101110571201 | E435: 금융
A436: 7 | B436: 한화 | C436: 한화투자증권(주) | D436: 1101110003155 | E436: 금융
A437: 7 | B437: 한화 | C437: (주)경기용인테크노밸리 | D437: 1345110262242 | E437: 비금융
A438: 7 | B438: 한화 | C438: (주)김해테크노밸리 | D438: 1955110120447 | E438: 비금융
... A510: 7 | B510: 한화 | C510: 해오름태양광발전소(주) | D510: 1543110050192 | E510: 비금융
A511: 7 | B511: 한화 | C511: ㈜서울역북부역세권개발 | D511: 124411-0267337 | E511: 비금융
A512: 7 | B512: 한화 | C512: ㈜서오창테크노밸리 | D512: 150111-0292271 | E512: 비금융
A513: 7 | B513: 한화 | C513: ㈜하나트러스트제5호위탁관리부동산투자회사 | D513: 110111-7468352 | E513: 비금융
A514: 8 | B514: 지에스 | C514: (유)가승개발 | D514: 1345140003989 | E514: 비금융
A515: 8 | B515: 지에스 | C515: (주)경기평택글로벌 | D515: 1313110232193 | E515: 비금융
A516: 8 | B516: 지에스 | C516: (주)구미그린에너지 | D516: 1760110113627 | E516: 비금융
A517: 8 | B517: 지에스 | C517: (주)동해그린에너지 | D517: 1101113788671 | E517: 비금융
A518: 8 | B518: 지에스 | C518: (주)보헌개발 | D518: 1101111557573 | E518: 비금융
A519: 8 | B519: 지에스 | C519: (주)삼양인터내셔날 | D519: 1101110424848 | E519: 비금융
A520: 8 | B520: 지에스 | C520: (주)삼정건업 | D520: 1101115005809 | E520: 비금융
A521: 8 | B521: 지에스 | C521: (주)삼척그린에너지파크 | D521: 1446110024143 | E521: 비금융
A522: 8 | B522: 지에스 | C522: (주)승산 | D522: 1101110110653 | E522: 비금융
A523: 8 | B523: 지에스 | C523: (주)에피스 | D523: 1615110128912 | E523: 비금융
A524: 8 | B524: 지에스 | C524: (주)영덕제1풍력발전 | D524: 1716110023655 | E524: 비금융
A525: 8 | B525: 지에스 | C525: (주)영양제2풍력발전 | D525: 1745110003333 | E525: 비금융
... A580: 8 | B580: 지에스 | C580: 보령엘엔지터미널(주) | D580: 1645110021527 | E580: 비금융
A581: 8 | B581: 지에스 | C581: 케이클라비스전문투자형사모부동산투자유한회사제19호 | D581: 110114-0256857 | E581: 비금융
A582: 8 | B582: 지에스 | C582: 자이메카닉스㈜ | D582: 110111-7559846 | E582: 비금융
A583: 8 | B583: 지에스 | C583: 팬코텍(유) | D583: 206214-0018226 | E583: 비금융
A584: 8 | B584: 지에스 | C584: ㈜케이세이프새먼어업회사 | D584: 180111-1291185 | E584: 비금융
A585: 8 | B585: 지에스 | C585: 자이가이스트(주) | D585: 110111-7585958 | E585: 비금융
A586: 9 | B586: 현대중공업 | C586: (주)아산카카오메디컬데이터 | D586: 1101116981040 | E586: 비금융
A587: 9 | B587: 현대중공업 | C587: (주)에이치이에이 | D587: 1101116725779 | E587: 비금융
A588: 9 | B588: 현대중공업 | C588: (주)코마스 | D588: 2301110146231 | E588: 비금융
A589: 9 | B589: 현대중공업 | C589: (주)현대미포조선 | D589: 1812110000526 | E589: 비금융
...
